BEGIN:VCALENDAR
VERSION:2.0
PRODID:-//Plone.org//NONSGML plone.app.event//EN
X-WR-TIMEZONE:Europe/Berlin
BEGIN:VEVENT
SUMMARY:Between Impeachment and Second Term
DTSTART;TZID=Europe/Berlin:20191107T100000
DTEND;TZID=Europe/Berlin:20191107T120000
DTSTAMP:20260423T015047Z
UID:db579fa3cc1e4274ae1688eba4f779c8@www.cassis.uni-bonn.de
CATEGORIES:Veranstaltung
CREATED:20210822T074808Z
DESCRIPTION:The White House seems to be in a state of great uncertainty. W
 hat are the odds of a successful impeachment procedure? How will it affect
  the next presidential election? And will the Trump Administration continu
 e in office after 2020 despite the current turmoil?\n\nAfter sharing their
  respective party’s views on these and other urgent questions\, former m
 embers of Congress Barbara Comstock and Raymond Green debated where Europe
 ’s key transatlantic partner may be headed in a discussion moderated by 
 Dr. Hendrik Ohnesorge\, University of Bonn.
LAST-MODIFIED:20250906T011510Z
URL:https://www.cassis.uni-bonn.de/de/veranstaltungen/veranstaltungsarchiv
 /2019/impeachment_second_term
END:VEVENT
BEGIN:VTIMEZONE
TZID:Europe/Berlin
X-LIC-LOCATION:Europe/Berlin
BEGIN:STANDARD
DTSTART:20191027T020000
TZNAME:CET
TZOFFSETFROM:+0200
TZOFFSETTO:+0100
END:STANDARD
END:VTIMEZONE
END:VCALENDAR
