BEGIN:VCALENDAR
VERSION:2.0
PRODID:-//Plone.org//NONSGML plone.app.event//EN
X-WR-TIMEZONE:Europe/Berlin
BEGIN:VEVENT
SUMMARY:International Security Forum Bonn 2021
DTSTART;VALUE=DATE:20210929
DTEND;VALUE=DATE:20211003
DTSTAMP:20260424T083103Z
UID:1f2e68d47d2b4b9da30f7abfa4df62b9@www.cassis.uni-bonn.de
CATEGORIES:Veranstaltung
CREATED:20210822T074808Z
DESCRIPTION:The International Security Forum Bonn 2021 is a high-level int
 ernational event to ensure a dialogue on contemporary topics of foreign an
 d security politics. The goal of the International Security Forum is to en
 sure a debate between experts and practitioners\, to identify vital aspect
 s of a successful European foreign and security policy\, and develop holis
 tic strategical solutions for pressing challenges.\nFind detailed informat
 ion on this year's International Security Forum here.
LAST-MODIFIED:20250906T011427Z
URL:https://www.cassis.uni-bonn.de/de/veranstaltungen/veranstaltungsarchiv
 /2021/international_security_forum_2021
END:VEVENT
END:VCALENDAR
