BEGIN:VCALENDAR
VERSION:2.0
PRODID:-//Plone.org//NONSGML plone.app.event//EN
X-WR-TIMEZONE:Europe/Berlin
BEGIN:VEVENT
SUMMARY:Transatlantic Security: A New Hope?
DTSTART;TZID=Europe/Berlin:20210223T183000
DTSTAMP:20260422T030855Z
UID:70b1e5d1d21e4fbb8c6ad925bfff500b@www.cassis.uni-bonn.de
CATEGORIES:Veranstaltung
CREATED:20210822T074808Z
DESCRIPTION:According to EU Commission President Dr. Ursula von der Leyen\
 , Europe now has “a friend in the White House”. While many Europeans w
 ill share this sentiment\, existing transatlantic security issues remain y
 et to be solved: on questions of NATO burden sharing (the infamous “2 %
 ”)\, energy security (Nord Stream II)\, cyber security (Huawei)\, and po
 ssible troop movements within Europe\, US President Joe Biden will without
  a doubt change the rhetoric\, but not necessarily the entire substance of
  the conversation. In parallel\, French advances at European Strategic Aut
 onomy grow stronger beyond its national borders and may offer an alternati
 ve to the crumbling post-World War II order.\n\nAgainst this background\, 
 an international round of transatlantic experts will discuss past\, curren
 t\, and future challenges – and opportunities – for transatlantic secu
 rity.
LAST-MODIFIED:20250906T011455Z
URL:https://www.cassis.uni-bonn.de/de/veranstaltungen/veranstaltungsarchiv
 /2021/transatlantic_security
END:VEVENT
BEGIN:VTIMEZONE
TZID:Europe/Berlin
X-LIC-LOCATION:Europe/Berlin
BEGIN:STANDARD
DTSTART:20201025T020000
TZNAME:CET
TZOFFSETFROM:+0200
TZOFFSETTO:+0100
END:STANDARD
END:VTIMEZONE
END:VCALENDAR
