BEGIN:VCALENDAR
VERSION:2.0
PRODID:-//Plone.org//NONSGML plone.app.event//EN
X-WR-TIMEZONE:Europe/Berlin
BEGIN:VEVENT
SUMMARY:Artificial Intelligence Solutions in a Turbulent World
DTSTART;TZID=Europe/Berlin:20221118T160000
DTEND;TZID=Europe/Berlin:20221118T193000
DTSTAMP:20260423T081959Z
UID:13b21f5c3a3e42a1990f6eb9f7feabd6@www.cassis.uni-bonn.de
CATEGORIES:Veranstaltung,China und Asien,Künstliche Intelligenz,Neue Tech
 nologien,Maximilian Mayer
CREATED:20210822T074808Z
DESCRIPTION:In times of political and economic insecurity\, the use of Art
 ificial Intelligence offers the promise to help business\, societies and t
 echnical systems to remain stable and become more efficient. In the most d
 ynamic fields including energy\, supply chains and EV mobility\, the impac
 t of world turbulence makes changes the operations and strategies on the g
 round. Which role do specific AI applications and systems play amidst envi
 ronmental\, geoeconomic\, and technical transformations? How should/could 
 companies and states in Asia\, Europe\, and America improve their cooperat
 ion and approach to AI? What hurdles and opportunities are there for AI to
  handle multiple disruptions and cascading crisis? This conference invites
  global speakers across industries\, fields and disciplines to discuss iss
 ues with subthemes: “Smart Solutions for Systems in Transition” and 
 “AI Solutions for Autonomous Mobility”. AECAIR is initiated by Konrad 
 Adenauer Foundation's Shanghai Office and Intellisia Institute.
LAST-MODIFIED:20250906T011917Z
URL:https://www.cassis.uni-bonn.de/en/events/event-archive/2022/artificial
 -intelligence-solutions-in-a-turbulent-world
END:VEVENT
BEGIN:VTIMEZONE
TZID:Europe/Berlin
X-LIC-LOCATION:Europe/Berlin
BEGIN:STANDARD
DTSTART:20221030T020000
TZNAME:CET
TZOFFSETFROM:+0200
TZOFFSETTO:+0100
END:STANDARD
END:VTIMEZONE
END:VCALENDAR
