BEGIN:VCALENDAR
VERSION:2.0
PRODID:-//Plone.org//NONSGML plone.app.event//EN
X-WR-TIMEZONE:Europe/Berlin
BEGIN:VEVENT
SUMMARY:Raum und Resilienz: Der Cyberspace
DTSTART;TZID=Europe/Berlin:20220411T180000
DTEND;TZID=Europe/Berlin:20220411T193000
DTSTAMP:20260420T140704Z
UID:228ea184b46b4a32985510d4213ff457@www.cassis.uni-bonn.de
CATEGORIES:Veranstaltung
CREATED:20220322T101343Z
DESCRIPTION:Cyber space is a man-made space where multiple political\, mil
 itary and economic interests compete. In recent years\, the number of cybe
 rattacks has increased rapidly. What is (still) limited to sabotaging civi
 lian IT systems or stealing innovation secrets can quickly become an acute
  threat to nuclear power plants\, hospitals or administrative structures. 
 Germany must lead the way in defending itself against cyber attacks and li
 ve up to its claim to technological leadership. After all\, the developmen
 t of effective tools and structures to safeguard its own digital sovereign
 ty is a key building block for Germany's economic competitiveness and mili
 tary capability to act.
LAST-MODIFIED:20250906T011907Z
URL:https://www.cassis.uni-bonn.de/en/events/event-archive/2022/der-cybers
 pace
END:VEVENT
BEGIN:VTIMEZONE
TZID:Europe/Berlin
X-LIC-LOCATION:Europe/Berlin
BEGIN:DAYLIGHT
DTSTART:20220327T030000
TZNAME:CEST
TZOFFSETFROM:+0100
TZOFFSETTO:+0200
END:DAYLIGHT
END:VTIMEZONE
END:VCALENDAR
