BEGIN:VCALENDAR
VERSION:2.0
PRODID:-//Plone.org//NONSGML plone.app.event//EN
X-WR-TIMEZONE:Europe/Berlin
BEGIN:VEVENT
SUMMARY:New Cultural Technologies? Digitalization of Memory Practices
DTSTART;TZID=Europe/Berlin:20220921T183000
DTEND;TZID=Europe/Berlin:20220921T200000
DTSTAMP:20260424T053912Z
UID:82d5b27acc574894a80928642de82d61@www.cassis.uni-bonn.de
CATEGORIES:Veranstaltung
CREATED:20210822T074808Z
DESCRIPTION:Has digitalization changed the way we remember personally and 
 collectively? Through their omnipresence\, digital applications and infras
 tructures seem to be reshaping memory culture and practices on a global sc
 ale. Mobile devices and cloud services enable individuals to access images
 \, texts\, and video recordings from the past anywhere and anytime. Collec
 tions are being digitalized and made more accessible. During the Corona Pa
 ndemic\, museums offered virtual tours. Governments are also using digital
  tools increasingly to shape authoritative cultural heritage and public di
 scourses on identity and history.
LAST-MODIFIED:20250906T011917Z
URL:https://www.cassis.uni-bonn.de/en/events/event-archive/2022/new-cultur
 al-technologies-digitalization-of-memory-practices
END:VEVENT
BEGIN:VTIMEZONE
TZID:Europe/Berlin
X-LIC-LOCATION:Europe/Berlin
BEGIN:DAYLIGHT
DTSTART:20220327T030000
TZNAME:CEST
TZOFFSETFROM:+0100
TZOFFSETTO:+0200
END:DAYLIGHT
END:VTIMEZONE
END:VCALENDAR
