BEGIN:VCALENDAR
VERSION:2.0
PRODID:-//Plone.org//NONSGML plone.app.event//EN
X-WR-TIMEZONE:Europe/Berlin
BEGIN:VEVENT
SUMMARY:"Stuck in the Middle”
DTSTART;TZID=Europe/Berlin:20220518T110000
DTEND;TZID=Europe/Berlin:20220518T120000
DTSTAMP:20260423T061932Z
UID:3a9aa950240d4f1c85b4ac5bb0eb0284@www.cassis.uni-bonn.de
CATEGORIES:Veranstaltung
CREATED:20220502T094749Z
DESCRIPTION:As tensions between the superpowers continue to intensify\, it
  is becoming clear that science and technology will play a decisive role i
 n deciding the outcome. Small states and middle powers are increasingly pr
 essed to rethink their policies not only on issues such as trade and secur
 ity policy but increasingly on science and technology. Israel\, the “sta
 rtup nation” is finding itself under increased pressure from both the Un
 ited States and China. This talk will explore how the current global power
  shift influences policies in the innovation and scientific research field
 s. It will discuss potential implications of the shifting nexus of science
 \, technology and security has for policy makers and researchers and how m
 iddle countries can find a balance between competing geopolitical actors.
LAST-MODIFIED:20250906T011909Z
URL:https://www.cassis.uni-bonn.de/en/events/event-archive/2022/stuck-in-t
 he-middle201d
END:VEVENT
BEGIN:VTIMEZONE
TZID:Europe/Berlin
X-LIC-LOCATION:Europe/Berlin
BEGIN:DAYLIGHT
DTSTART:20220327T030000
TZNAME:CEST
TZOFFSETFROM:+0100
TZOFFSETTO:+0200
END:DAYLIGHT
END:VTIMEZONE
END:VCALENDAR
