BEGIN:VCALENDAR
VERSION:2.0
PRODID:-//Plone.org//NONSGML plone.app.event//EN
X-WR-TIMEZONE:Europe/Berlin
BEGIN:VEVENT
SUMMARY:100 Days after the Attack on Israel
DTSTART;TZID=Europe/Berlin:20240115T180000
DTEND;TZID=Europe/Berlin:20240115T203000
DTSTAMP:20260421T015911Z
UID:610313ac382d4371b0a7cd2fc3470259@www.cassis.uni-bonn.de
CATEGORIES:Veranstaltung,Verteidigung,Europa
CREATED:20210822T074808Z
DESCRIPTION:100 days after the attack on Israel - we are facing this sad t
 urning point on January 15\, 2024. For us\, this is an occasion to take a 
 closer look at the enormous security policy implications of the Islamist b
 arbarism of October 7\, 2023 in a major event of solidarity with Israel as
  the only liberal democracy in the Middle East. Based on the eventful deve
 lopment of the Israeli state\, we will look at the regional security polic
 y implications of Hamas' latest "inhuman atrocity" (German Chancellor Olaf
  Scholz) as well as the impact of this bloody deed on German-Israeli relat
 ions and explore the question of what the Israeli war on terror means for 
 the special security needs of Israel and Jewish citizens in Germany and Eu
 rope.
LAST-MODIFIED:20250906T012046Z
URL:https://www.cassis.uni-bonn.de/en/events/event-archive/2024/100-tage-u
 eberfall
END:VEVENT
BEGIN:VTIMEZONE
TZID:Europe/Berlin
X-LIC-LOCATION:Europe/Berlin
BEGIN:STANDARD
DTSTART:20231029T020000
TZNAME:CET
TZOFFSETFROM:+0200
TZOFFSETTO:+0100
END:STANDARD
END:VTIMEZONE
END:VCALENDAR
