BEGIN:VCALENDAR
VERSION:2.0
PRODID:-//Plone.org//NONSGML plone.app.event//EN
X-WR-TIMEZONE:Europe/Berlin
BEGIN:VEVENT
SUMMARY:"Big AI" and Cloud Infrastructure Dependence
DTSTART;TZID=Europe/Berlin:20250602T181500
DTEND;TZID=Europe/Berlin:20250602T194500
DTSTAMP:20260422T164150Z
UID:6c8eea67071c4a85ba8d1c1865e1eae4@www.cassis.uni-bonn.de
CATEGORIES:Veranstaltung,Infrastrukturen der chinesischen Moderne
CREATED:20210822T074808Z
DESCRIPTION:The lecture will be held by Prof. Dr. Fernando Van Der Vlist a
 nd is part of the lecture series "Infrastructure\, Capitalism\, and Depend
 ency in the Digital Age".\n\nThis lecture explores AI and platform power i
 n the digital ecosystem\, with a focus on cloud infrastructure. By examini
 ng platforms’ evolving entanglements with data\, compute\, and platform 
 economies\, it critically analyses their role in shaping technological and
  economic dependencies—and their broader consequences.
LAST-MODIFIED:20250906T012204Z
URL:https://www.cassis.uni-bonn.de/en/events/upcoming-events/big-ai-and-cl
 oud-infrastructure-dependence
END:VEVENT
BEGIN:VTIMEZONE
TZID:Europe/Berlin
X-LIC-LOCATION:Europe/Berlin
BEGIN:DAYLIGHT
DTSTART:20250330T030000
TZNAME:CEST
TZOFFSETFROM:+0100
TZOFFSETTO:+0200
END:DAYLIGHT
END:VTIMEZONE
END:VCALENDAR
