BEGIN:VCALENDAR
VERSION:2.0
PRODID:-//Plone.org//NONSGML plone.app.event//EN
X-WR-TIMEZONE:Europe/Berlin
BEGIN:VEVENT
SUMMARY:Franco-German Perspectives on Nuclear Deterrence
DTSTART;TZID=Europe/Berlin:20241018T093000
DTEND;TZID=Europe/Berlin:20241018T143000
DTSTAMP:20260422T030855Z
UID:cf60895769654a32870dfdfecca0705e@www.cassis.uni-bonn.de
CATEGORIES:Veranstaltung,Deutsch-französischer Dialog
CREATED:20240829T101533Z
DESCRIPTION:Since the beginning of the Russian war against Ukraine\, the i
 ssue of nuclear security in Europe found its way back into an open debate.
  Alongside the nuclear powers France and the UK\, the USA in particular gu
 arantees the nuclear defense umbrella in Europe. As part of nuclear sharin
 g\, NATO member states without their own nuclear weapons benefit from the 
 USA's nuclear protection.\n\nWhat are Germany‘s and France‘s positions
  on nuclear deterrence? Should Germany participate in France’s force de 
 frappe\, or even develop its own nuclear weapon? Could French nuclear wea
 pons complement the European nuclear umbrella? These and other questions w
 ill be discussed at Table ronde on October 18\, 2024. In two exclusive wor
 kshops\, the French and German perspectives on nuclear deterrence will be 
 explored.
LAST-MODIFIED:20250906T012133Z
URL:https://www.cassis.uni-bonn.de/en/events/upcoming-events/franco-german
 -perspectives-on-nuclear-deterrence
END:VEVENT
BEGIN:VTIMEZONE
TZID:Europe/Berlin
X-LIC-LOCATION:Europe/Berlin
BEGIN:DAYLIGHT
DTSTART:20240331T030000
TZNAME:CEST
TZOFFSETFROM:+0100
TZOFFSETTO:+0200
END:DAYLIGHT
END:VTIMEZONE
END:VCALENDAR
