BEGIN:VCALENDAR
VERSION:2.0
PRODID:-//Plone.org//NONSGML plone.app.event//EN
X-WR-TIMEZONE:Europe/Berlin
BEGIN:VEVENT
SUMMARY:The Netherlands after the election - Where are they heading?
DTSTART;TZID=Europe/Berlin:20240207T180000
DTEND;TZID=Europe/Berlin:20240207T200000
DTSTAMP:20260422T012240Z
UID:db6b5f89df4f475f96649d8c3607bd80@www.cassis.uni-bonn.de
CATEGORIES:Veranstaltung,Infrastrukturen der chinesischen Moderne,China un
 d Asien,Infrastructures of Logistics
CREATED:20210822T074808Z
DESCRIPTION:Last November's election in the Netherlands saw a (surprisingl
 y) clear winner in the form of Geert Wilders' right-wing populist PVV part
 y. Whether Wilders will ultimately be able to govern remains to be seen. A
  possible political realignment in the Netherlands would have major implic
 ations for Germany and North Rhine-Westphalia\, as the Netherlands is a cl
 ose partner in economic\, foreign and defense policy issues. What could a 
 Dutch government under right-wing populist leadership or participation mea
 n for NRW and Germany? How would such a government position itself in rela
 tion to the current conflicts and crises and what impact would this have a
 t European level?
LAST-MODIFIED:20250906T012111Z
URL:https://www.cassis.uni-bonn.de/en/events/upcoming-events/the-netherlan
 ds
END:VEVENT
BEGIN:VTIMEZONE
TZID:Europe/Berlin
X-LIC-LOCATION:Europe/Berlin
BEGIN:STANDARD
DTSTART:20231029T020000
TZNAME:CET
TZOFFSETFROM:+0200
TZOFFSETTO:+0100
END:STANDARD
END:VTIMEZONE
END:VCALENDAR
